BEGIN:VCALENDAR
VERSION:2.0
PRODID:-//The South Georgia Association - ECPv6.15.20//NONSGML v1.0//EN
CALSCALE:GREGORIAN
METHOD:PUBLISH
X-WR-CALNAME:The South Georgia Association
X-ORIGINAL-URL:https://southgeorgiaassociation.org
X-WR-CALDESC:Events for The South Georgia Association
REFRESH-INTERVAL;VALUE=DURATION:PT1H
X-Robots-Tag:noindex
X-PUBLISHED-TTL:PT1H
BEGIN:VTIMEZONE
TZID:Europe/London
BEGIN:DAYLIGHT
TZOFFSETFROM:+0000
TZOFFSETTO:+0100
TZNAME:BST
DTSTART:20200329T010000
END:DAYLIGHT
BEGIN:STANDARD
TZOFFSETFROM:+0100
TZOFFSETTO:+0000
TZNAME:GMT
DTSTART:20201025T010000
END:STANDARD
BEGIN:DAYLIGHT
TZOFFSETFROM:+0000
TZOFFSETTO:+0100
TZNAME:BST
DTSTART:20210328T010000
END:DAYLIGHT
BEGIN:STANDARD
TZOFFSETFROM:+0100
TZOFFSETTO:+0000
TZNAME:GMT
DTSTART:20211031T010000
END:STANDARD
BEGIN:DAYLIGHT
TZOFFSETFROM:+0000
TZOFFSETTO:+0100
TZNAME:BST
DTSTART:20220327T010000
END:DAYLIGHT
BEGIN:STANDARD
TZOFFSETFROM:+0100
TZOFFSETTO:+0000
TZNAME:GMT
DTSTART:20221030T010000
END:STANDARD
END:VTIMEZONE
BEGIN:VEVENT
DTSTART;TZID=Europe/London:20210520T193000
DTEND;TZID=Europe/London:20210520T210000
DTSTAMP:20260425T170406
CREATED:20210506T090317Z
LAST-MODIFIED:20240705T184508Z
UID:1822-1621539000-1621544400@southgeorgiaassociation.org
SUMMARY:Sealing Site Archaeology Expedition Talk
DESCRIPTION:NB 1930 start time is BST\, ie 1830 UTC/GMT \n\n\n\nMarcus Brittain from the university of Cambridge will be talking online about the recent SGHT Archaeological Expedition that the SGA helped with. In 2019 they examined a number of sealing sites around South Georgia\, uncovering a surprising amount of history. Bob Burton from the SGHT will tell us a little about what the fur seal fur was used for\, and why the sealers were prepared to travel so far to procure them. \n\n\n\nMore Details Here\n\n\n\nREGISTER HERE
URL:https://southgeorgiaassociation.org/event/sealing-site-archaeology-expedition-talk/
END:VEVENT
END:VCALENDAR