BEGIN:VCALENDAR
VERSION:2.0
PRODID:-//The South Georgia Association - ECPv6.15.20//NONSGML v1.0//EN
CALSCALE:GREGORIAN
METHOD:PUBLISH
X-WR-CALNAME:The South Georgia Association
X-ORIGINAL-URL:https://southgeorgiaassociation.org
X-WR-CALDESC:Events for The South Georgia Association
REFRESH-INTERVAL;VALUE=DURATION:PT1H
X-Robots-Tag:noindex
X-PUBLISHED-TTL:PT1H
BEGIN:VTIMEZONE
TZID:Europe/London
BEGIN:DAYLIGHT
TZOFFSETFROM:+0000
TZOFFSETTO:+0100
TZNAME:BST
DTSTART:20200329T010000
END:DAYLIGHT
BEGIN:STANDARD
TZOFFSETFROM:+0100
TZOFFSETTO:+0000
TZNAME:GMT
DTSTART:20201025T010000
END:STANDARD
BEGIN:DAYLIGHT
TZOFFSETFROM:+0000
TZOFFSETTO:+0100
TZNAME:BST
DTSTART:20210328T010000
END:DAYLIGHT
BEGIN:STANDARD
TZOFFSETFROM:+0100
TZOFFSETTO:+0000
TZNAME:GMT
DTSTART:20211031T010000
END:STANDARD
BEGIN:DAYLIGHT
TZOFFSETFROM:+0000
TZOFFSETTO:+0100
TZNAME:BST
DTSTART:20220327T010000
END:DAYLIGHT
BEGIN:STANDARD
TZOFFSETFROM:+0100
TZOFFSETTO:+0000
TZNAME:GMT
DTSTART:20221030T010000
END:STANDARD
END:VTIMEZONE
BEGIN:VEVENT
DTSTART;TZID=Europe/London:20210820T000000
DTEND;TZID=Europe/London:20210930T235959
DTSTAMP:20260423T055912
CREATED:20210730T162410Z
LAST-MODIFIED:20240705T184507Z
UID:1975-1629417600-1633046399@southgeorgiaassociation.org
SUMMARY:South Georgia Heritage / UK Antarctic Heritage Trust Auction
DESCRIPTION:This is your chance to help raise funds for conservation work in South Georgia and Antarctica\, by making a bid for a bargain! Auction lots include a very special Antarctic Cruise\, behind-the-scenes tours\, original artworks\, signed memorabilia and much more.
URL:https://southgeorgiaassociation.org/event/south-georgia-heritage-uk-antarctic-heritage-trust-auction/
LOCATION:Online – the Comfort of Your Own Home
END:VEVENT
BEGIN:VEVENT
DTSTART;TZID=Europe/London:20210924T000000
DTEND;TZID=Europe/London:20210924T235959
DTSTAMP:20260423T055912
CREATED:20210318T123326Z
LAST-MODIFIED:20240705T184508Z
UID:1718-1632441600-1632527999@southgeorgiaassociation.org
SUMMARY:Devon and Cornwall Polar Society - "QUEST 100"
DESCRIPTION:On Friday\, 24 September 2021 Devon & Cornwall Polar Society are planning a one day event in Plymouth to commemorate the centenary of the sailing of Quest from Millbay Dock at the start of the Shackleton – Rowett Expedition. \n\n\n\nThere will be a selection of talks\, films and displays and lunch taking up the full day. \n\n\n\nSpeakers already engaged are: \n\n\n\nPaul Hart of “Antarctic Quest 21”\, www.antarcticquest21.comAlan Noake of Kent Scouts – “Request 2021” www.kentscouts.org.ukDon Kerr – grandson of Alexander Kerr\, Chief Engineer\, “Quest”.Jan Chojecki – grandson of John Q Rowett – the philanthropist who financed the expedition.\n\n\n\nThe event will take place at the historic Duke of Cornwall Hotel\, MIllbay\, Plymouth where Shackleton stayed before sailing out of Plymouth Sound. A discounted accommodation package will be available for those wanting to stay overnight. \n\n\n\nOnce the arrangements have been re-confirmed the DCPS will circulate full details and a booking form.
URL:https://southgeorgiaassociation.org/event/dcps-quest-100/
LOCATION:Duke of Cornwall Hotel\, Plymouth\, Millbay\, Plymouth\, PL1 3LG\, United Kingdom
END:VEVENT
END:VCALENDAR