BEGIN:VCALENDAR
VERSION:2.0
PRODID:-//The South Georgia Association - ECPv6.15.20//NONSGML v1.0//EN
CALSCALE:GREGORIAN
METHOD:PUBLISH
X-ORIGINAL-URL:https://southgeorgiaassociation.org
X-WR-CALDESC:Events for The South Georgia Association
REFRESH-INTERVAL;VALUE=DURATION:PT1H
X-Robots-Tag:noindex
X-PUBLISHED-TTL:PT1H
BEGIN:VTIMEZONE
TZID:Europe/London
BEGIN:DAYLIGHT
TZOFFSETFROM:+0000
TZOFFSETTO:+0100
TZNAME:BST
DTSTART:20210328T010000
END:DAYLIGHT
BEGIN:STANDARD
TZOFFSETFROM:+0100
TZOFFSETTO:+0000
TZNAME:GMT
DTSTART:20211031T010000
END:STANDARD
BEGIN:DAYLIGHT
TZOFFSETFROM:+0000
TZOFFSETTO:+0100
TZNAME:BST
DTSTART:20220327T010000
END:DAYLIGHT
BEGIN:STANDARD
TZOFFSETFROM:+0100
TZOFFSETTO:+0000
TZNAME:GMT
DTSTART:20221030T010000
END:STANDARD
BEGIN:DAYLIGHT
TZOFFSETFROM:+0000
TZOFFSETTO:+0100
TZNAME:BST
DTSTART:20230326T010000
END:DAYLIGHT
BEGIN:STANDARD
TZOFFSETFROM:+0100
TZOFFSETTO:+0000
TZNAME:GMT
DTSTART:20231029T010000
END:STANDARD
END:VTIMEZONE
BEGIN:VEVENT
DTSTART;TZID=Europe/London:20220207T080000
DTEND;TZID=Europe/London:20220504T170000
DTSTAMP:20260422T213639
CREATED:20220217T191454Z
LAST-MODIFIED:20240705T184506Z
UID:2221-1644220800-1651683600@southgeorgiaassociation.org
SUMMARY:Shackleton Exhibition at the RGS
DESCRIPTION:
URL:https://southgeorgiaassociation.org/event/shackleton-exhibition-at-the-rgs/
LOCATION:Royal Geographic Society\, 1 Kensington Gore\, London\, SW7 2AR\, United Kingdom
ATTACH;FMTTYPE=image/jpeg:https://southgeorgiaassociation.org/sga-wp/wp-content/uploads/©-Royal-Geographical-Society-with-IBG_-Panorama-taken-by-Frank-Hurley_Enduring-Eye-Exhibition-2015.jpg
END:VEVENT
BEGIN:VEVENT
DTSTART;TZID=Europe/London:20220422T193000
DTEND;TZID=Europe/London:20220422T210000
DTSTAMP:20260422T213639
CREATED:20210730T230434Z
LAST-MODIFIED:20240705T184507Z
UID:1985-1650655800-1650661200@southgeorgiaassociation.org
SUMMARY:SGA Online Talk - South Georgia Then and Now (1982-2022)
DESCRIPTION:South Georgia Association online event to mark the 40th anniversary of the end of the Argentine occupation of South Georgia in 1982 \n\n\n\nRecollections of life at King Edward Point by people who were there at the time of the invasion in 1982\, when the military garrison was replaced by the applied fisheries research laboratory in 2001\, and during the latest summer season 2021 to 2022. Bob Headland\, Pat Lurcock and Jamie Coleman share their memories of past and recollections of recent events illustrated by contemporary photographs. \n\n\n\nWe will email SGA members with details of the event nearer the time\, and then publicise it wider by email\, Facebook and on this site. \n\n\n\n\n\nMore Details and Registration HERE
URL:https://southgeorgiaassociation.org/event/sga-online-talk-south-georgia-then-and-now-1982-2022/
LOCATION:Online – the Comfort of Your Own Home
ATTACH;FMTTYPE=image/png:https://southgeorgiaassociation.org/sga-wp/wp-content/uploads/TalkFlyer-Apr2022.png
END:VEVENT
END:VCALENDAR