BEGIN:VCALENDAR
VERSION:2.0
PRODID:-//The South Georgia Association - ECPv6.15.20//NONSGML v1.0//EN
CALSCALE:GREGORIAN
METHOD:PUBLISH
X-ORIGINAL-URL:https://southgeorgiaassociation.org
X-WR-CALDESC:Events for The South Georgia Association
REFRESH-INTERVAL;VALUE=DURATION:PT1H
X-Robots-Tag:noindex
X-PUBLISHED-TTL:PT1H
BEGIN:VTIMEZONE
TZID:Europe/London
BEGIN:DAYLIGHT
TZOFFSETFROM:+0000
TZOFFSETTO:+0100
TZNAME:BST
DTSTART:20240331T010000
END:DAYLIGHT
BEGIN:STANDARD
TZOFFSETFROM:+0100
TZOFFSETTO:+0000
TZNAME:GMT
DTSTART:20241027T010000
END:STANDARD
BEGIN:DAYLIGHT
TZOFFSETFROM:+0000
TZOFFSETTO:+0100
TZNAME:BST
DTSTART:20250330T010000
END:DAYLIGHT
BEGIN:STANDARD
TZOFFSETFROM:+0100
TZOFFSETTO:+0000
TZNAME:GMT
DTSTART:20251026T010000
END:STANDARD
BEGIN:DAYLIGHT
TZOFFSETFROM:+0000
TZOFFSETTO:+0100
TZNAME:BST
DTSTART:20260329T010000
END:DAYLIGHT
BEGIN:STANDARD
TZOFFSETFROM:+0100
TZOFFSETTO:+0000
TZNAME:GMT
DTSTART:20261025T010000
END:STANDARD
END:VTIMEZONE
BEGIN:VEVENT
DTSTART;TZID=Europe/London:20250704T080000
DTEND;TZID=Europe/London:20250705T170000
DTSTAMP:20260422T122715
CREATED:20250311T105508Z
LAST-MODIFIED:20250311T112742Z
UID:3103-1751616000-1751734800@southgeorgiaassociation.org
SUMMARY:SGA July 2025 Summer Event
DESCRIPTION:Get ready for two days of exciting presentations! Whales\, seals\, science\, archives\, mapping\, climate change\, marine protection\, and more! We can’t wait to see you there!Venue: British Antarctic SurveyPrice: TBCNumbers will be limited so tickets will be on a first come\, first served basis with SGA members given priority booking. Look out for more information in the coming weeks!
URL:https://southgeorgiaassociation.org/event/sga-july-2025-summer-event/
LOCATION:British Antarctic Survey\, High Cross\, Madingley Road\, Cambridge\, United Kingdom
END:VEVENT
END:VCALENDAR