BEGIN:VCALENDAR
VERSION:2.0
PRODID:-//The South Georgia Association - ECPv6.15.20//NONSGML v1.0//EN
CALSCALE:GREGORIAN
METHOD:PUBLISH
X-WR-CALNAME:The South Georgia Association
X-ORIGINAL-URL:https://southgeorgiaassociation.org
X-WR-CALDESC:Events for The South Georgia Association
REFRESH-INTERVAL;VALUE=DURATION:PT1H
X-Robots-Tag:noindex
X-PUBLISHED-TTL:PT1H
BEGIN:VTIMEZONE
TZID:Europe/London
BEGIN:DAYLIGHT
TZOFFSETFROM:+0000
TZOFFSETTO:+0100
TZNAME:BST
DTSTART:20190331T010000
END:DAYLIGHT
BEGIN:STANDARD
TZOFFSETFROM:+0100
TZOFFSETTO:+0000
TZNAME:GMT
DTSTART:20191027T010000
END:STANDARD
BEGIN:DAYLIGHT
TZOFFSETFROM:+0000
TZOFFSETTO:+0100
TZNAME:BST
DTSTART:20200329T010000
END:DAYLIGHT
BEGIN:STANDARD
TZOFFSETFROM:+0100
TZOFFSETTO:+0000
TZNAME:GMT
DTSTART:20201025T010000
END:STANDARD
BEGIN:DAYLIGHT
TZOFFSETFROM:+0000
TZOFFSETTO:+0100
TZNAME:BST
DTSTART:20210328T010000
END:DAYLIGHT
BEGIN:STANDARD
TZOFFSETFROM:+0100
TZOFFSETTO:+0000
TZNAME:GMT
DTSTART:20211031T010000
END:STANDARD
END:VTIMEZONE
BEGIN:VEVENT
DTSTART;TZID=Europe/London:20200909T190000
DTEND;TZID=Europe/London:20200909T210000
DTSTAMP:20260423T114245
CREATED:20210318T114117Z
LAST-MODIFIED:20240705T184508Z
UID:1712-1599678000-1599685200@southgeorgiaassociation.org
SUMMARY:SGA Online Talks No. Two – 9 September 2020
DESCRIPTION:Toothfish\, Construction and Good Riddance to Rats\n\n\n\nFollowing the success of our online talk – Whales\, Mountains and Penguins – in June\, we are holding another one. We are repeating the successful format of three short talks followed by questions from the ‘floor’. The event will be hosted via the online platform Zoom. For those unfamiliar with Zoom\, we can forward instructions on how to download and use the app if requested. \n\n\n\nPlace: The comfort of your own home. SGA Members will be contacted by email with registration details. We will also keep you updated here\, and on the FaceBook page. \n\n\n\nDate: Wednesday 9 September 2020 \n\n\n\nTime: 7PM (1800 GMT for overseas participants ) \n\n\n\nHow to Take Part: Email the communications editor HERE or use the form BELOW by Monday 7 September to register your interest and we will send you the link. \n\n\n\nThe meeting invitation will be sent out on Tuesday 8 September to the email address you have provided. \n\n\n\nNB – you do not need to ‘sign up’ to a Zoom account in order to attend this meeting. \n\n\n\nTell your friends: Please feel welcome to invite non-members to participate – the more the merrier! (There is a maximum audience of 300 people). \n\n\n\nThe Speakers\n\n\n\nPeter Thomson (Argos): The Fishing Industry and Science in the South Georgia Toothfish FisheryJoe Corner (BAS): Building Infrastructure on a Small Island – the New KEP WharfPat Lurcock: Confirming the Eradication of Rodents from South Georgia.
URL:https://southgeorgiaassociation.org/event/sga-online-talks-no-two-9-september-2020/
LOCATION:Online – the Comfort of Your Own Home
END:VEVENT
BEGIN:VEVENT
DTSTART;TZID=Europe/London:20200625T000000
DTEND;TZID=Europe/London:20200625T235959
DTSTAMP:20260423T114245
CREATED:20210318T114453Z
LAST-MODIFIED:20240705T184508Z
UID:1714-1593043200-1593129599@southgeorgiaassociation.org
SUMMARY:SGA Online Talks – Whales Penguins and Mountains
DESCRIPTION:Dr Jennifer Jackson (BAS): Whale recovery at South Georgia: findings from three years of surveyDr Tom Hart (Oxford University): Counting the South Sandwich Islands: an interdisciplinary expeditionCrag Jones: President Gorbachev: My Part In His Downfall
URL:https://southgeorgiaassociation.org/event/sga-online-talks-whales-penguins-and-mountains/
LOCATION:Online – the Comfort of Your Own Home
END:VEVENT
END:VCALENDAR