BEGIN:VCALENDAR
VERSION:2.0
PRODID:-//The South Georgia Association - ECPv6.15.20//NONSGML v1.0//EN
CALSCALE:GREGORIAN
METHOD:PUBLISH
X-ORIGINAL-URL:https://southgeorgiaassociation.org
X-WR-CALDESC:Events for The South Georgia Association
REFRESH-INTERVAL;VALUE=DURATION:PT1H
X-Robots-Tag:noindex
X-PUBLISHED-TTL:PT1H
BEGIN:VTIMEZONE
TZID:Europe/London
BEGIN:DAYLIGHT
TZOFFSETFROM:+0000
TZOFFSETTO:+0100
TZNAME:BST
DTSTART:20200329T010000
END:DAYLIGHT
BEGIN:STANDARD
TZOFFSETFROM:+0100
TZOFFSETTO:+0000
TZNAME:GMT
DTSTART:20201025T010000
END:STANDARD
BEGIN:DAYLIGHT
TZOFFSETFROM:+0000
TZOFFSETTO:+0100
TZNAME:BST
DTSTART:20210328T010000
END:DAYLIGHT
BEGIN:STANDARD
TZOFFSETFROM:+0100
TZOFFSETTO:+0000
TZNAME:GMT
DTSTART:20211031T010000
END:STANDARD
BEGIN:DAYLIGHT
TZOFFSETFROM:+0000
TZOFFSETTO:+0100
TZNAME:BST
DTSTART:20220327T010000
END:DAYLIGHT
BEGIN:STANDARD
TZOFFSETFROM:+0100
TZOFFSETTO:+0000
TZNAME:GMT
DTSTART:20221030T010000
END:STANDARD
END:VTIMEZONE
BEGIN:VEVENT
DTSTART;TZID=Europe/London:20211030T000000
DTEND;TZID=Europe/London:20211030T235959
DTSTAMP:20260423T034357
CREATED:20211006T124642Z
LAST-MODIFIED:20240705T184506Z
UID:2063-1635552000-1635638399@southgeorgiaassociation.org
SUMMARY:Virtually Shackleton Online Autumn School 2021
DESCRIPTION:The Shackleton Museum in Athy\, Ireland will be holding its annual autumn Shackleton school at the end of October.
URL:https://southgeorgiaassociation.org/event/virtually-shackleton-online-autumn-school-2021/
LOCATION:Online – the Comfort of Your Own Home
END:VEVENT
END:VCALENDAR